BEGIN:VCALENDAR
VERSION:2.0
PRODID:-//ARABLIT &amp; ARABLIT QUARTERLY - ECPv6.15.20//NONSGML v1.0//EN
CALSCALE:GREGORIAN
METHOD:PUBLISH
X-WR-CALNAME:ARABLIT &amp; ARABLIT QUARTERLY
X-ORIGINAL-URL:https://arablit.org
X-WR-CALDESC:Events for ARABLIT &amp; ARABLIT QUARTERLY
REFRESH-INTERVAL;VALUE=DURATION:PT1H
X-Robots-Tag:noindex
X-PUBLISHED-TTL:PT1H
BEGIN:VTIMEZONE
TZID:Europe/Paris
BEGIN:DAYLIGHT
TZOFFSETFROM:+0100
TZOFFSETTO:+0200
TZNAME:CEST
DTSTART:20200329T010000
END:DAYLIGHT
BEGIN:STANDARD
TZOFFSETFROM:+0200
TZOFFSETTO:+0100
TZNAME:CET
DTSTART:20201025T010000
END:STANDARD
BEGIN:DAYLIGHT
TZOFFSETFROM:+0100
TZOFFSETTO:+0200
TZNAME:CEST
DTSTART:20210328T010000
END:DAYLIGHT
BEGIN:STANDARD
TZOFFSETFROM:+0200
TZOFFSETTO:+0100
TZNAME:CET
DTSTART:20211031T010000
END:STANDARD
BEGIN:DAYLIGHT
TZOFFSETFROM:+0100
TZOFFSETTO:+0200
TZNAME:CEST
DTSTART:20220327T010000
END:DAYLIGHT
BEGIN:STANDARD
TZOFFSETFROM:+0200
TZOFFSETTO:+0100
TZNAME:CET
DTSTART:20221030T010000
END:STANDARD
END:VTIMEZONE
BEGIN:VEVENT
DTSTART;TZID=Europe/Paris:20210814T161500
DTEND;TZID=Europe/Paris:20210814T171500
DTSTAMP:20260420T112814
CREATED:20210812T113326Z
LAST-MODIFIED:20210812T113326Z
UID:44309-1628957700-1628961300@arablit.org
SUMMARY:Hoda Barakat: Lost Voices of the Arab Spring @edbookfest
DESCRIPTION:In this event the acclaimed Lebanese writer Hoda Barakat discusses her new novel\, translated into English by International Booker-winning translator Marilyn Booth. Voices of the Lost\, which won the International Prize for Arabic Fiction in 2019\, is built around imagined letters written by migrants or asylum seekers from the Arab world – missives which sadly never reached their intended recipients. Each one\, falling into the hands of another asylum seeker\, prompts that person to begin a letter of their own. The result offers moving\, sometimes painful insights into the lives of migrants – not only the betrayals and agonies but also\, at times\, the hope and faith that things will improve. Barakat joins us today from her home in France to discuss Voices of the Lost with British Council Co-Director Literature\, David Codling. \nThis is a live event\, with an author Q&A.
URL:https://arablit.org/event/hoda-barakat-lost-voices-of-the-arab-spring-edbookfest/
END:VEVENT
END:VCALENDAR