BEGIN:VCALENDAR
VERSION:2.0
PRODID:-//ARABLIT &amp; ARABLIT QUARTERLY - ECPv6.15.20//NONSGML v1.0//EN
CALSCALE:GREGORIAN
METHOD:PUBLISH
X-WR-CALNAME:ARABLIT &amp; ARABLIT QUARTERLY
X-ORIGINAL-URL:https://arablit.org
X-WR-CALDESC:Events for ARABLIT &amp; ARABLIT QUARTERLY
REFRESH-INTERVAL;VALUE=DURATION:PT1H
X-Robots-Tag:noindex
X-PUBLISHED-TTL:PT1H
BEGIN:VTIMEZONE
TZID:Europe/Helsinki
BEGIN:DAYLIGHT
TZOFFSETFROM:+0200
TZOFFSETTO:+0300
TZNAME:EEST
DTSTART:20200329T010000
END:DAYLIGHT
BEGIN:STANDARD
TZOFFSETFROM:+0300
TZOFFSETTO:+0200
TZNAME:EET
DTSTART:20201025T010000
END:STANDARD
BEGIN:DAYLIGHT
TZOFFSETFROM:+0200
TZOFFSETTO:+0300
TZNAME:EEST
DTSTART:20210328T010000
END:DAYLIGHT
BEGIN:STANDARD
TZOFFSETFROM:+0300
TZOFFSETTO:+0200
TZNAME:EET
DTSTART:20211031T010000
END:STANDARD
BEGIN:DAYLIGHT
TZOFFSETFROM:+0200
TZOFFSETTO:+0300
TZNAME:EEST
DTSTART:20220327T010000
END:DAYLIGHT
BEGIN:STANDARD
TZOFFSETFROM:+0300
TZOFFSETTO:+0200
TZNAME:EET
DTSTART:20221030T010000
END:STANDARD
END:VTIMEZONE
BEGIN:VTIMEZONE
TZID:Europe/Paris
BEGIN:DAYLIGHT
TZOFFSETFROM:+0100
TZOFFSETTO:+0200
TZNAME:CEST
DTSTART:20200329T010000
END:DAYLIGHT
BEGIN:STANDARD
TZOFFSETFROM:+0200
TZOFFSETTO:+0100
TZNAME:CET
DTSTART:20201025T010000
END:STANDARD
BEGIN:DAYLIGHT
TZOFFSETFROM:+0100
TZOFFSETTO:+0200
TZNAME:CEST
DTSTART:20210328T010000
END:DAYLIGHT
BEGIN:STANDARD
TZOFFSETFROM:+0200
TZOFFSETTO:+0100
TZNAME:CET
DTSTART:20211031T010000
END:STANDARD
BEGIN:DAYLIGHT
TZOFFSETFROM:+0100
TZOFFSETTO:+0200
TZNAME:CEST
DTSTART:20220327T010000
END:DAYLIGHT
BEGIN:STANDARD
TZOFFSETFROM:+0200
TZOFFSETTO:+0100
TZNAME:CET
DTSTART:20221030T010000
END:STANDARD
END:VTIMEZONE
BEGIN:VEVENT
DTSTART;TZID=Europe/Helsinki:20210817T100000
DTEND;TZID=Europe/Helsinki:20210817T170000
DTSTAMP:20260420T112839
CREATED:20210705T214114Z
LAST-MODIFIED:20210713T195029Z
UID:43229-1629194400-1629219600@arablit.org
SUMMARY:Opening of 'Resistance\, Rebellion & Revolution': On Libyan Artist and Satirist Hasan ‘Alsatoor’ Dhaimish
DESCRIPTION:Resistance\, Rebellion & Revolution is a project on the life and works of the late Libyan artist and satirist\, Hasan ‘Alsatoor’ Dhaimish (1955-2016). \nCoinciding with the ten-year anniversary of the Libyan revolution\, an exhibition at London’s Hoxton 253 offers a ruminative reflection on the artist’s life in exile in the UK\, while a new online exhibition of Hasan’s work presents over 5\,000 pieces of satire he produced over his career. \nMore at alsatoor.com.
URL:https://arablit.org/event/opening-of-resistance-rebellion-revolution-on-libyan-artist-and-https-www-alsatoor-com/
END:VEVENT
BEGIN:VEVENT
DTSTART;TZID=Europe/Paris:20210817T161500
DTEND;TZID=Europe/Paris:20210817T171500
DTSTAMP:20260420T112839
CREATED:20210812T113129Z
LAST-MODIFIED:20210812T113129Z
UID:44305-1629216900-1629220500@arablit.org
SUMMARY:Samar Yazbek: Escapism for Survival @edbookfest
DESCRIPTION:Leading Syrian author Samar Yazbek joins the Edinburgh International Book Festival live from France to discuss the vital role of the imagination in the struggle for survival. Yazbek spoke about the challenges of life in Syria at the Book Festival in 2012; since then\, her home country has continued to endure a devastating conflict. Join us as she speaks to academic and activist Esa Aldegheri about her work. \nThis is a live event\, with an author Q&A.
URL:https://arablit.org/event/samar-yazbek-escapism-for-survival-edbookfest/
END:VEVENT
END:VCALENDAR