BEGIN:VCALENDAR
VERSION:2.0
PRODID:-//ARABLIT &amp; ARABLIT QUARTERLY - ECPv6.15.20//NONSGML v1.0//EN
CALSCALE:GREGORIAN
METHOD:PUBLISH
X-ORIGINAL-URL:https://arablit.org
X-WR-CALDESC:Events for ARABLIT &amp; ARABLIT QUARTERLY
REFRESH-INTERVAL;VALUE=DURATION:PT1H
X-Robots-Tag:noindex
X-PUBLISHED-TTL:PT1H
BEGIN:VTIMEZONE
TZID:America/Chicago
BEGIN:DAYLIGHT
TZOFFSETFROM:-0600
TZOFFSETTO:-0500
TZNAME:CDT
DTSTART:20210314T080000
END:DAYLIGHT
BEGIN:STANDARD
TZOFFSETFROM:-0500
TZOFFSETTO:-0600
TZNAME:CST
DTSTART:20211107T070000
END:STANDARD
BEGIN:DAYLIGHT
TZOFFSETFROM:-0600
TZOFFSETTO:-0500
TZNAME:CDT
DTSTART:20220313T080000
END:DAYLIGHT
BEGIN:STANDARD
TZOFFSETFROM:-0500
TZOFFSETTO:-0600
TZNAME:CST
DTSTART:20221106T070000
END:STANDARD
BEGIN:DAYLIGHT
TZOFFSETFROM:-0600
TZOFFSETTO:-0500
TZNAME:CDT
DTSTART:20230312T080000
END:DAYLIGHT
BEGIN:STANDARD
TZOFFSETFROM:-0500
TZOFFSETTO:-0600
TZNAME:CST
DTSTART:20231105T070000
END:STANDARD
END:VTIMEZONE
BEGIN:VEVENT
DTSTART;TZID=America/Chicago:20220612T140000
DTEND;TZID=America/Chicago:20220612T160000
DTSTAMP:20260420T130821
CREATED:20220610T082740Z
LAST-MODIFIED:20220610T082740Z
UID:51302-1655042400-1655049600@arablit.org
SUMMARY:Honoring the Memory of Muthaffar Al Nawwab
DESCRIPTION:The Arab-American Educational Foundation invites you to a special event to honor the legacy of the Iraqi poet\, Muthaffar Al Nawwab\, who passed away on May 20\, 2022. The event will be in person and in Arabic. Zoom option will be available: \n\n\n\n\n\nJoin Zoom Meeting\nhttps://us02web.zoom.us/j/86720542126?pwd=OUkvRmszR3F6eWEvSUhGT05MV0xGUT09\nMeeting ID: 867 2054 2126\nPasscode: 646353\n\n\n\n\n\nThe event will be held at the ACC on Sunday\, June 12 @ 2-4 PM.\n\n\n10555 Stancliff Rd\, Houston\, TX 77099\n\nThe agenda will include:\n\n\n1- Writer and essayist Latif Adnan: Introduction\n2- Aziz Shaibani: life of Al Nawwab: A personal story\n3- Novelist Sinan Antoon: The significance of Al Nawwab on the Iraqi literary political discourse; will join from Cairo via zoom\n4- Poet and physician Fady Joudah: The poetic and revolutionary in the poetry of Al Nawwab\n\n5- Poet Raifat Al Bujairami: The legacy of Al Nawwab in the Palestinian context.\n6- Writer Jassim Al Mutair: With Al Nawwab in the prison; will join from the Netherlands via Zoom\n7- Aziz Shaibani: The Al Nawwab effect on the Iraqi songs
URL:https://arablit.org/event/honoring-the-memory-of-muthaffar-al-nawwab/
END:VEVENT
END:VCALENDAR